BEGIN:VCALENDAR
VERSION:2.0
PRODID:SFPL Web Calendar
BEGIN:VEVENT
UID:146007@sfpl.org
DTSTAMP:20260425T173000Z
DTSTART:20260425T173000Z
DTEND:20260425T193000Z
SUMMARY:Activity: North Beach Walking Tour
DESCRIPTION:<p>Step into the wild heart of San Francisco’s past, where the Barbary Coast thrived with vice, jazz, dance halls and shanghaiing. Wander through old North Beach neighborhood, where “Terrific Street” lived up to its name, then drift into the smoky bars and bookstores of the 1950s, where the Beat poets sparked a literary revolution. &nbsp;</p><p>Reservation is required. Click <a href="https://forms.office.com/g/AbNr0YJF9K?origin=lprLink">here</a> to reserve your spot or call 415-355-5626. Space is limited to 25 people. <strong>No last-minute walk-ups</strong>.<br><br>&nbsp;</p>
LOCATION:North Beach - North Beach General Floor Area
CLASS:PUBLIC
TRANSP:TRANSPARENT
END:VEVENT
BEGIN:VALARM
TRIGGER:-PT1440M
ACTION:DISPLAY
DESCRIPTION:Event Reminder - Activity: North Beach Walking Tour
END:VALARM
END:VCALENDAR