BEGIN:VCALENDAR
VERSION:2.0
PRODID:SFPL Web Calendar
BEGIN:VEVENT
UID:146102@sfpl.org
DTSTAMP:20260530T210000Z
DTSTART:20260530T210000Z
DTEND:20260530T220000Z
SUMMARY:Workshop: Flower Arrangement with Fiona Huang
DESCRIPTION:<p>Learn to make floral arrangements with local artist Fiona Huang.</p><p>Space limited. Reservations required: (415) 355-5615 (starting May 1).</p><p>Connect: <a href="https://www.instagram.com/fiona_backyard?igsh=NTc4MTIwNjQ2YQ%3D%3D&utm_source=qr">Fiona_backyard - Instagram</a></p>
LOCATION:Ocean View - Ocean View Meeting Room
CLASS:PUBLIC
TRANSP:TRANSPARENT
END:VEVENT
BEGIN:VALARM
TRIGGER:-PT1440M
ACTION:DISPLAY
DESCRIPTION:Event Reminder - Workshop: Flower Arrangement with Fiona Huang
END:VALARM
END:VCALENDAR