BEGIN:VCALENDAR
VERSION:2.0
PRODID:SFPL Web Calendar
BEGIN:VEVENT
UID:146393@sfpl.org
DTSTAMP:20260424T200000Z
DTSTART:20260424T200000Z
DTEND:20260424T213000Z
SUMMARY:Tutorial: Cantonese Tablet/Smartphone Course for Older Adults 60+
DESCRIPTION:<p>專為60歲或以上年長者或殘障人士而設的培訓課程.</p><p>由安老自助處提供. 請攜带您自己的設備.</p><p>座位有限. 從4月1日開始接受報名.</p><p>請親臨日落區圖書分館或致電415-355-2808報名.</p><p>設備: 蘋果和安卓</p><p>語言: 粵語</p><p>日期: 4月10日或4月24日</p><p>時間: 1點至2點半</p><p>主題: 相機/Camera</p><ul><li>什么是对焦和曝光/What is focus and exposure</li><li>相机的基本功能/The basic function of Camera</li><li>如何使用相机扫描二维码/How to use camera to scan QR code</li></ul>
LOCATION:Sunset - Sunset Program Room
CLASS:PUBLIC
TRANSP:TRANSPARENT
END:VEVENT
BEGIN:VALARM
TRIGGER:-PT1440M
ACTION:DISPLAY
DESCRIPTION:Event Reminder - Tutorial: Cantonese Tablet/Smartphone Course for Older Adults 60+
END:VALARM
END:VCALENDAR