BEGIN:VCALENDAR
VERSION:2.0
PRODID:SFPL Web Calendar
BEGIN:VEVENT
UID:146969@sfpl.org
DTSTAMP:20260214T230000Z
DTSTART:20260214T230000Z
DTEND:20260215T000000Z
SUMMARY:Social: Therapy Pet at the Library
DESCRIPTION:<p>Meet a therapy pet provided by the San Francisco Society for the Prevention of Cruelty to Animals (SF SPCA) to provide comfort and relieve stress.&nbsp;</p>
LOCATION:Sunset - Sunset Program Room
CLASS:PUBLIC
TRANSP:TRANSPARENT
END:VEVENT
BEGIN:VALARM
TRIGGER:-PT1440M
ACTION:DISPLAY
DESCRIPTION:Event Reminder - Social: Therapy Pet at the Library
END:VALARM
END:VCALENDAR