BEGIN:VCALENDAR
VERSION:2.0
PRODID:SFPL Web Calendar
BEGIN:VEVENT
UID:147245@sfpl.org
DTSTAMP:20260825T210000Z
DTSTART:20260825T210000Z
DTEND:20260825T230000Z
SUMMARY:Book Club: Bernal Readers, Fahrenheit 451
DESCRIPTION:<p>This month, we will read and discuss <a href="https://sfpl.bibliocommons.com/v2/record/S93C1319311">Fahrenheit 451 by Ray Bradbury</a>. Copies can be picked up at the Circulation Desk.&nbsp;</p><p>This book club is part of <a href="https://bookbindersmuseum.org/exhibition/banned-books-250/"><i>Banned Books 250</i></a>, a special exhibition on view May 16–August 29, 2026 at the American Bookbinders Museum. This 250-year retrospective traces how books have been challenged, restricted, and suppressed—from early colonial bans to today’s debates over identity, sexuality, and free expression—offering a deeper look at the ongoing struggle between censorship and the right to read.&nbsp; View the complete <a href="https://sfpl.bibliocommons.com/v2/list/display/433865467/2987093437">Banned Books 250 exhibit booklist</a>.</p>
LOCATION:Bernal Heights - Bernal Heights Meeting Room
CLASS:PUBLIC
TRANSP:TRANSPARENT
END:VEVENT
BEGIN:VALARM
TRIGGER:-PT1440M
ACTION:DISPLAY
DESCRIPTION:Event Reminder - Book Club: Bernal Readers, Fahrenheit 451
END:VALARM
END:VCALENDAR