BEGIN:VCALENDAR
VERSION:2.0
PRODID:SFPL Web Calendar
BEGIN:VEVENT
UID:147652@sfpl.org
DTSTAMP:20260419T220000Z
DTSTART:20260419T220000Z
DTEND:20260419T230000Z
SUMMARY:Activity: Mancala
DESCRIPTION:<p>Learn how to play Mancala, one of the oldest known board games, with origins traced to East Africa and ancient Egypt. For children ages 7 and older.</p>
LOCATION:Sunset - Sunset Program Room
CLASS:PUBLIC
TRANSP:TRANSPARENT
END:VEVENT
BEGIN:VALARM
TRIGGER:-PT1440M
ACTION:DISPLAY
DESCRIPTION:Event Reminder - Activity: Mancala
END:VALARM
END:VCALENDAR