BEGIN:VCALENDAR
VERSION:2.0
PRODID:SFPL Web Calendar
BEGIN:VEVENT
UID:147654@sfpl.org
DTSTAMP:20260313T210000Z
DTSTART:20260313T210000Z
DTEND:20260313T230000Z
SUMMARY:Film: Nomadland
DESCRIPTION:<p><i>Nomadland</i> follows the economic collapse of a company town in rural Nevada, Fern (Frances McDormand) packs her van and sets off on the road exploring a life outside of conventional society as a modern-day nomad. The third feature film from director Chloé Zhao, <i>Nomadland</i> features real nomads Linda May, Swankie and Bob Wells as Fern's mentors and comrades in her exploration through the vast landscape of the American West.</p><p>R, 107 mins., 2021. Closed captions (CC) in English.</p>
LOCATION:Noe Valley/Sally Brunn - Noe Valley Meeting Room
CLASS:PUBLIC
TRANSP:TRANSPARENT
END:VEVENT
BEGIN:VALARM
TRIGGER:-PT1440M
ACTION:DISPLAY
DESCRIPTION:Event Reminder - Film: Nomadland
END:VALARM
END:VCALENDAR