BEGIN:VCALENDAR
VERSION:2.0
PRODID:SFPL Web Calendar
BEGIN:VEVENT
UID:147836@sfpl.org
DTSTAMP:20260220T000000Z
DTSTART:20260220T000000Z
DTEND:20260220T023000Z
SUMMARY:Film: Raisin in the Sun
DESCRIPTION:<p><i><strong>A Raisin in the Sun</strong></i> is a 1961 Film based on the 1958 play by <a href="https://en.wikipedia.org/wiki/Lorraine_Hansberry">Lorraine Hansberry</a>, which was not published until 1959. It follows an <a href="https://en.wikipedia.org/wiki/African-American">African-American</a> family that wants a better life away from Chicago.</p><p>NR, 128 mins., 1961. Closed captions (CC) in English.</p>
LOCATION:Ingleside - Ingleside Meeting Room
CLASS:PUBLIC
TRANSP:TRANSPARENT
END:VEVENT
BEGIN:VALARM
TRIGGER:-PT1440M
ACTION:DISPLAY
DESCRIPTION:Event Reminder - Film: Raisin in the Sun
END:VALARM
END:VCALENDAR