BEGIN:VCALENDAR
VERSION:2.0
PRODID:SFPL Web Calendar
BEGIN:VEVENT
UID:147882@sfpl.org
DTSTAMP:20260328T213000Z
DTSTART:20260328T213000Z
DTEND:20260328T230000Z
SUMMARY:Activity: Intermediate Mahjong
DESCRIPTION:<p>Play mahjong and make new friends! This group is for intermediate level players.</p><p>Space limited. Reservations required: (415) 355-2808 (starting March 14).</p><p><i>Please arrive on time and sign up for only one Mahjong class per month: either Beginners or Intermediate.</i></p>
LOCATION:Sunset - Sunset Program Room
CLASS:PUBLIC
TRANSP:TRANSPARENT
END:VEVENT
BEGIN:VALARM
TRIGGER:-PT1440M
ACTION:DISPLAY
DESCRIPTION:Event Reminder - Activity: Intermediate Mahjong
END:VALARM
END:VCALENDAR