BEGIN:VCALENDAR
VERSION:2.0
PRODID:SFPL Web Calendar
BEGIN:VEVENT
UID:148040@sfpl.org
DTSTAMP:20260307T183000Z
DTSTART:20260307T183000Z
DTEND:20260307T203000Z
SUMMARY:Early Learning: Saturday Morning Playtime
DESCRIPTION:<p>Share toddler friendly toys and games with others.</p><p>Today the playtime will happen in the children's area while a dance class for children takes place in the program room.</p><p>For ages 0–3.</p>
LOCATION:Glen Park - Glen Park Children's Area
CLASS:PUBLIC
TRANSP:TRANSPARENT
END:VEVENT
BEGIN:VALARM
TRIGGER:-PT1440M
ACTION:DISPLAY
DESCRIPTION:Event Reminder - Early Learning: Saturday Morning Playtime
END:VALARM
END:VCALENDAR