BEGIN:VCALENDAR
VERSION:2.0
PRODID:SFPL Web Calendar
BEGIN:VEVENT
UID:148398@sfpl.org
DTSTAMP:20260329T220000Z
DTSTART:20260329T220000Z
DTEND:20260330T000000Z
SUMMARY:Celebration: Revolutionary Voices 25th Anniversary
DESCRIPTION:<p>Twenty-five years ago, the anthology <a href="https://sfpl.bibliocommons.com/v2/record/S93C1710796"><i>Revolutionary Voices</i></a> introduced a rising generation of queer and trans youth leaders. Since then, the book has been celebrated, banned and adapted for the stage. As we face escalating attacks on LGBTQI communities, we’ll gather to recognize the book’s legacy, our collective power and its meaning in a new era.</p><p>Amy Sonnie, editor of <i>Revolutionary Voices</i>, and acclaimed movement leader Malkia Devich Cyril, along with special guests, will celebrate queer and trans voices across generations. Featuring Dani Gabriel, Alegria Barclay, Mar Balcita and Meliza Bañales, alongside Oakland’s youth poet laureate, Cael Dueñas-Lara and vice laureate, Sehinne Yohannes, and Karan Gupta, San Francisco's inaugural Youth Poet Laureate. With special guest Brandon Monokian, playwright and student organizer, and more to be announced.</p>
LOCATION:Main Library - James C. Hormel LGBTQIA Center - 3rd Fl
CLASS:PUBLIC
TRANSP:TRANSPARENT
END:VEVENT
BEGIN:VALARM
TRIGGER:-PT1440M
ACTION:DISPLAY
DESCRIPTION:Event Reminder - Celebration: Revolutionary Voices 25th Anniversary
END:VALARM
END:VCALENDAR