BEGIN:VCALENDAR
VERSION:2.0
PRODID:SFPL Web Calendar
BEGIN:VEVENT
UID:148495@sfpl.org
DTSTAMP:20260222T220000Z
DTSTART:20260222T220000Z
DTEND:20260223T000000Z
SUMMARY:Activity: Black History Month Healing Circle
DESCRIPTION:<p>Celebrating Black history and culture, SFPL Community Ambassador, Toni Hines, leads a compassionate intergenerational healing circle. Families will enjoy creative <i>Black History Month</i> activities, storytelling, and reflection that honor the past, uplift the present, and strengthen community across generations.</p><p>Refreshments will be served.</p>
LOCATION:Potrero - Potrero Meeting Room
CLASS:PUBLIC
TRANSP:TRANSPARENT
END:VEVENT
BEGIN:VALARM
TRIGGER:-PT1440M
ACTION:DISPLAY
DESCRIPTION:Event Reminder - Activity: Black History Month Healing Circle
END:VALARM
END:VCALENDAR