BEGIN:VCALENDAR
VERSION:2.0
PRODID:SFPL Web Calendar
BEGIN:VEVENT
UID:148644@sfpl.org
DTSTAMP:20260425T230000Z
DTSTART:20260425T230000Z
DTEND:20260426T000000Z
SUMMARY:FULL: Workshop: Pour & Glow Candle Making
DESCRIPTION:<p>This event is full. For waitlist information call (415) 355-5727 or email wsamgr@sfpl.org.</p><p>Join Linda Zafra of Soul Gifts USA for a hands-on candle-making class that blends creativity and craftsmanship. You’ll uncover the secrets behind perfect candles—from wax and fragrance choices to pour temperatures and curing magic.</p><p>&nbsp;</p>
LOCATION:Western Addition - Western Addition Meeting Room
CLASS:PUBLIC
TRANSP:TRANSPARENT
END:VEVENT
BEGIN:VALARM
TRIGGER:-PT1440M
ACTION:DISPLAY
DESCRIPTION:Event Reminder - FULL: Workshop: Pour & Glow Candle Making
END:VALARM
END:VCALENDAR