BEGIN:VCALENDAR
VERSION:2.0
PRODID:SFPL Web Calendar
BEGIN:VEVENT
UID:148897@sfpl.org
DTSTAMP:20260313T224500Z
DTSTART:20260313T224500Z
DTEND:20260313T234500Z
SUMMARY:Workshop: Popsicle Stick Suncatcher
DESCRIPTION:<p>Create a colorful suncatcher out of popsicle sticks that reflect and refract light into different shapes and colors. For ages 6–12. Space limited. Reservations required: (415) 355-2889.&nbsp;</p>
LOCATION:Chinatown/Him Mark Lai - Chinatown Meeting Room
CLASS:PUBLIC
TRANSP:TRANSPARENT
END:VEVENT
BEGIN:VALARM
TRIGGER:-PT1440M
ACTION:DISPLAY
DESCRIPTION:Event Reminder - Workshop: Popsicle Stick Suncatcher
END:VALARM
END:VCALENDAR