BEGIN:VCALENDAR
VERSION:2.0
PRODID:SFPL Web Calendar
BEGIN:VEVENT
UID:149444@sfpl.org
DTSTAMP:20260617T200000Z
DTSTART:20260617T200000Z
DTEND:20260617T213000Z
SUMMARY:Activity: KODO Water Painting
DESCRIPTION:<p>Create designs using water and a paintbrush that slowly dries and disappears, leaving space for new art to be created. For children and their caregivers.&nbsp;</p>
LOCATION:Visitacion Valley - Visitacion Valley Meeting Room
CLASS:PUBLIC
TRANSP:TRANSPARENT
END:VEVENT
BEGIN:VALARM
TRIGGER:-PT1440M
ACTION:DISPLAY
DESCRIPTION:Event Reminder - Activity: KODO Water Painting
END:VALARM
END:VCALENDAR