BEGIN:VCALENDAR
VERSION:2.0
PRODID:SFPL Web Calendar
BEGIN:VEVENT
UID:149588@sfpl.org
DTSTAMP:20260407T210000Z
DTSTART:20260407T210000Z
DTEND:20260407T220000Z
SUMMARY:Workshop: Managing Debt
DESCRIPTION:<p>Ready to break free of the debt cycle and regain control of your financial life? This workshop will cover several debt management strategies and provide you the knowledge and tools to control your spending, deal with creditors and start your wealth building journey.</p><p>About the presenter: Kue Lee is the Director of Targeted Outreach at the California Department of Financial Protection and Innovation (DFPI), where he leads a team that provides financial literacy, scam prevention education, and fraud awareness across the state. He has both a Masters of Business Administration (MBA) and a Bachelors in Journalism from California State University, Fresno and is a U.S. Army Veteran.&nbsp;</p><p>The Department of Financial Protection and Innovation (DFPI) is California’s financial regulator, overseeing financial service providers, enforcing laws and regulations, promoting innovation and fair and honest business practices, and protecting consumers by preventing potential marketplace risks, fraud, and abuse.</p><p>&nbsp;</p>
LOCATION:Virtual Library
CLASS:PUBLIC
TRANSP:TRANSPARENT
END:VEVENT
BEGIN:VALARM
TRIGGER:-PT1440M
ACTION:DISPLAY
DESCRIPTION:Event Reminder - Workshop: Managing Debt
END:VALARM
END:VCALENDAR