BEGIN:VCALENDAR
VERSION:2.0
PRODID:SFPL Web Calendar
BEGIN:VEVENT
UID:149625@sfpl.org
DTSTAMP:20260426T220000Z
DTSTART:20260426T220000Z
DTEND:20260427T000000Z
SUMMARY:Panel: Justin Feinstein and Samantha Mills
DESCRIPTION:<p><a href="https://www.sfinsf.org/">SF in SF</a> hosts authors <a href="https://justin-feinstein.squarespace.com/">Justin Feinstein</a> and <a href="https://samtasticbooks.com/about/bio/">Samantha Mills</a> in conversation moderator <a href="https://cliffwinnig.com/Cliffs_Space/Home.html">Cliff Winnig</a>.&nbsp;</p><p>Justin Feinstein' debut novel <a href="https://tachyonpublications.com/product/your-behavior-will-be-monitored/"><i>Your Behavior Will Be Monitored</i></a> is a page-turning, hilarious science fictional romp through the promise and perils of an AI-driven future that we probably deserve. Feinstein has previously written about jazz for the Associated Press, about the UFC for <i>VICE</i>, and about being a celebrity doppelgänger for <i>Salon</i>.&nbsp;</p><p>Samantha Mills is a multiple award-winning author living in Southern California. Her debut science fantasy novel,<a href="https://sfpl.bibliocommons.com/v2/record/S93C6224896"><i> The Wings Upon Her Back</i></a>, won the Compton Crook Award for best SFFH debut and was nominated for the World Fantasy Award for Best Novel. Her upcoming fantasy and science fiction short story collection <a href="https://samtasticbooks.com/collections/"><i>Rabbit Test and Other Stories</i></a> will be published by the San Francisco-based <a href="https://tachyonpublications.com/">Tachyon Publications</a>.</p><p>Each author will read a selection from their work, followed by Q&A with the audience.</p><p>Books will be for sale courtesy of Fly By Night Books, and attendees are welcome to bring books from home for autographs.</p><p>Contact - Rina Weisman, Coordinator - 415-572-1015, <a href="mailto:sfinsfevents@gmail.com">sfinsfevents@gmail.com</a></p>
LOCATION:Main Library - Chinese Center Exhibit Space - 3rd Fl
CLASS:PUBLIC
TRANSP:TRANSPARENT
END:VEVENT
BEGIN:VALARM
TRIGGER:-PT1440M
ACTION:DISPLAY
DESCRIPTION:Event Reminder - Panel: Justin Feinstein and Samantha Mills
END:VALARM
END:VCALENDAR