BEGIN:VCALENDAR
VERSION:2.0
PRODID:SFPL Web Calendar
BEGIN:VEVENT
UID:150100@sfpl.org
DTSTAMP:20260624T230000Z
DTSTART:20260624T230000Z
DTEND:20260625T000000Z
SUMMARY:Presentation: Tree Frog Treks
DESCRIPTION:<p>Meet reptiles and amphibians face-to-face and learn about the natural world around us. For children and their caregivers.&nbsp;</p><p>Tree Frog Trek's credo has always been: Get Out and Get Dirty. Their guiding mantra remains: Build a Fort, Climb a Tree, Hold a Bug and Smell the Sea.&nbsp;</p><p>Connect: <a href="https://www.treefrogtreks.com/">Tree Frog Treks - Website.&nbsp;</a></p>
LOCATION:Excelsior - Excelsior Children's Area
CLASS:PUBLIC
TRANSP:TRANSPARENT
END:VEVENT
BEGIN:VALARM
TRIGGER:-PT1440M
ACTION:DISPLAY
DESCRIPTION:Event Reminder - Presentation: Tree Frog Treks
END:VALARM
END:VCALENDAR