BEGIN:VCALENDAR
VERSION:2.0
PRODID:SFPL Web Calendar
BEGIN:VEVENT
UID:150352@sfpl.org
DTSTAMP:20260520T000000Z
DTSTART:20260520T000000Z
DTEND:20260520T010000Z
SUMMARY:Presentation: Smart City Cycling 1
DESCRIPTION:<p>Learn all you need to know about biking in San Francisco and the Bay Area. This is the perfect class for people interested in biking but intimidated by urban traffic, and anyone already riding to hone their skills, presented by the San Francisco Bicycle Coalition.</p><p>This comprehensive course follows the curriculum of the League of American Bicyclists and is the first in a series of classes. It will prepare you for Smart City Cycling 2 and 3 on-bike workshops.</p><p>Topics covered: &nbsp;</p><ul><li>Choosing a bike&nbsp;</li><li>Rules of the road&nbsp;</li><li>Biking in city traffic&nbsp;</li><li>Handling intersections&nbsp;</li><li>Avoiding collisions&nbsp;</li></ul><p>Connect: <a href="https://sfbike.org/">San Francisco Bicycle Coalition - website</a></p><p>Space limited. Reservations required: (415) 355-2880 or <a href="https://forms.office.com/g/eRxD4jJPpt">online</a>.&nbsp;</p>
LOCATION:Presidio - Presidio Meeting Room
CLASS:PUBLIC
TRANSP:TRANSPARENT
END:VEVENT
BEGIN:VALARM
TRIGGER:-PT1440M
ACTION:DISPLAY
DESCRIPTION:Event Reminder - Presentation: Smart City Cycling 1
END:VALARM
END:VCALENDAR