BEGIN:VCALENDAR
VERSION:2.0
PRODID:SFPL Web Calendar
BEGIN:VEVENT
UID:150395@sfpl.org
DTSTAMP:20260428T183000Z
DTSTART:20260428T183000Z
DTEND:20260428T203000Z
SUMMARY:Early Learning: Big San Francisco Play Date
DESCRIPTION:<p>After Toddler Storytime, stay and play outside! Age appropriate toys and activities will be set up outside on our 10th Avenue lawn. Special guest: the SFFD Fire Truck with its firefighters! For ages 5 and younger with their families.&nbsp;</p><p>Big San Francisco Play Date provides families with young children the opportunity to engage in accessible activities that promote growth and exploration in a safe and welcoming environment. Geared for children aged 0–5, we welcome caregivers and older siblings to play along with them. Big Play Date encourages side-by-side play, choice, turn-taking, and making new friends while providing their grown-ups an opportunity to learn about the importance of play.&nbsp;&nbsp;</p>
LOCATION:Richmond/Senator Milton Marks - Richmond 10th Avenue Park
CLASS:PUBLIC
TRANSP:TRANSPARENT
END:VEVENT
BEGIN:VALARM
TRIGGER:-PT1440M
ACTION:DISPLAY
DESCRIPTION:Event Reminder - Early Learning: Big San Francisco Play Date
END:VALARM
END:VCALENDAR