BEGIN:VCALENDAR
VERSION:2.0
PRODID:SFPL Web Calendar
BEGIN:VEVENT
UID:150621@sfpl.org
DTSTAMP:20260429T220000Z
DTSTART:20260429T220000Z
DTEND:20260429T233000Z
SUMMARY:Workshop: Book Bedazzling
DESCRIPTION:<p>Make your favorite book cover sparkle with stick-on gems. Bring a book to decorate or choose from a limited selection. For ages 10–18.</p>
LOCATION:Marina - Marina General Floor Area
CLASS:PUBLIC
TRANSP:TRANSPARENT
END:VEVENT
BEGIN:VALARM
TRIGGER:-PT1440M
ACTION:DISPLAY
DESCRIPTION:Event Reminder - Workshop: Book Bedazzling
END:VALARM
END:VCALENDAR