BEGIN:VCALENDAR
VERSION:2.0
PRODID:SFPL Web Calendar
BEGIN:VEVENT
UID:150662@sfpl.org
DTSTAMP:20260418T220000Z
DTSTART:20260418T220000Z
DTEND:20260418T230000Z
SUMMARY:Activity: Bouncing Bunny
DESCRIPTION:<p>Create an adorable, bouncing bunny using minimal supplies. Perfect for Easter decor or as a personalized gift, this craft is easy to master and even more fun to play with. For children ages 5–12.&nbsp;</p>
LOCATION:Ortega - Ortega Meeting Room
CLASS:PUBLIC
TRANSP:TRANSPARENT
END:VEVENT
BEGIN:VALARM
TRIGGER:-PT1440M
ACTION:DISPLAY
DESCRIPTION:Event Reminder - Activity: Bouncing Bunny
END:VALARM
END:VCALENDAR