BEGIN:VCALENDAR
VERSION:2.0
PRODID:SFPL Web Calendar
BEGIN:VEVENT
UID:150823@sfpl.org
DTSTAMP:20260710T220000Z
DTSTART:20260710T220000Z
DTEND:20260710T230000Z
SUMMARY:Workshop: DIY Lava Lamps
DESCRIPTION:<p>Create your own colorful lava lamp and learn about chemical reactions and the concept of density. For children ages 6 and older. Children under 8 must be accompanied by an adult. Space limited. Reservations required: (415) 355-5727.</p>
LOCATION:Western Addition - Western Addition Meeting Room
CLASS:PUBLIC
TRANSP:TRANSPARENT
END:VEVENT
BEGIN:VALARM
TRIGGER:-PT1440M
ACTION:DISPLAY
DESCRIPTION:Event Reminder - Workshop: DIY Lava Lamps
END:VALARM
END:VCALENDAR