BEGIN:VCALENDAR
VERSION:2.0
PRODID:SFPL Web Calendar
BEGIN:VEVENT
UID:150911@sfpl.org
DTSTAMP:20260430T210000Z
DTSTART:20260430T210000Z
DTEND:20260430T223000Z
SUMMARY:Tutorial: Grok Basics/Grok簡介
DESCRIPTION:<p>Discover Grok, an AI tool that can answer questions, explore topics, and help with simple image editing. Instruction in Chinese. Space limited. Reservations required:(415) 355-2888 (starting April 1).&nbsp;</p><p>瞭解 Grok，一款可以回答問題、探索各類主題，並協助進行簡單圖片編輯的人工智能工具。中文講解。4月1日開始報名，報名請電(415) 355-2888，或親臨本館。</p>
LOCATION:Chinatown/Him Mark Lai - Chinatown Meeting Room
CLASS:PUBLIC
TRANSP:TRANSPARENT
END:VEVENT
BEGIN:VALARM
TRIGGER:-PT1440M
ACTION:DISPLAY
DESCRIPTION:Event Reminder - Tutorial: Grok Basics/Grok簡介
END:VALARM
END:VCALENDAR