BEGIN:VCALENDAR
VERSION:2.0
PRODID:SFPL Web Calendar
BEGIN:VEVENT
UID:150930@sfpl.org
DTSTAMP:20260425T213000Z
DTSTART:20260425T213000Z
DTEND:20260425T223000Z
SUMMARY:Social: Family Dance Party
DESCRIPTION:<p>Dance to fun family-friendly jams. For children and their caregivers.&nbsp;</p>
LOCATION:Noe Valley/Sally Brunn - Noe Valley Meeting Room
CLASS:PUBLIC
TRANSP:TRANSPARENT
END:VEVENT
BEGIN:VALARM
TRIGGER:-PT1440M
ACTION:DISPLAY
DESCRIPTION:Event Reminder - Social: Family Dance Party
END:VALARM
END:VCALENDAR