BEGIN:VCALENDAR
VERSION:2.0
PRODID:SFPL Web Calendar
BEGIN:VEVENT
UID:151030@sfpl.org
DTSTAMP:20260418T233000Z
DTSTART:20260418T233000Z
DTEND:20260419T000000Z
SUMMARY:Early Learning: Malinky Music
DESCRIPTION:<p><a href="https://www.malinkymusic.com/">Malinky Music</a> offers a bilingual Spanish-English music and movement class designed to immerse young children in both languages through music, play and engaging activities. For children and their caregivers.</p>
LOCATION:Sunset - Sunset Program Room
CLASS:PUBLIC
TRANSP:TRANSPARENT
END:VEVENT
BEGIN:VALARM
TRIGGER:-PT1440M
ACTION:DISPLAY
DESCRIPTION:Event Reminder - Early Learning: Malinky Music
END:VALARM
END:VCALENDAR