BEGIN:VCALENDAR
VERSION:2.0
PRODID:SFPL Web Calendar
BEGIN:VEVENT
UID:151120@sfpl.org
DTSTAMP:20260521T003000Z
DTSTART:20260521T003000Z
DTEND:20260521T013000Z
SUMMARY:Social: Puzzle and Game Swap
DESCRIPTION:<p>Bring a jigsaw puzzle or board game in good condition&nbsp;to swap for a new challenge to take home. Puzzles for all ages and abilities welcome.</p>
LOCATION:Bernal Heights - Bernal Heights Meeting Room
CLASS:PUBLIC
TRANSP:TRANSPARENT
END:VEVENT
BEGIN:VALARM
TRIGGER:-PT1440M
ACTION:DISPLAY
DESCRIPTION:Event Reminder - Social: Puzzle and Game Swap
END:VALARM
END:VCALENDAR