BEGIN:VCALENDAR
VERSION:2.0
PRODID:SFPL Web Calendar
BEGIN:VEVENT
UID:151137@sfpl.org
DTSTAMP:20260409T233000Z
DTSTART:20260409T233000Z
DTEND:20260410T013000Z
SUMMARY:Workshop: Bike Repair Fix-it Clinic
DESCRIPTION:<p>Keep your wheels rolling with free bike repairs!&nbsp;<br><br>Bring your bicycle for a free tune-up and basic repairs, provided by BikeMobile. Expert bike mechanics will assess and fix common issues like: Flat tires, brake and gear adjustments, chain and tire replacements.<br><br>While your bike is being fixed, learn tips and tricks to keep it in top shape!<br><br>Please note:<br><br>&nbsp; *&nbsp;&nbsp; Limit one bike per person.<br>&nbsp; *&nbsp;&nbsp; No replacement of missing wheels or gears.<br>&nbsp; *&nbsp;&nbsp; Space limited. Seats available first come, first served.<br><br>This event is part of a partnership between <a href="https://www.sfenvironment.org/repair-events-and-clinics">San Francisco Environment</a>, the San Francisco Public Library and a Zero Waste Grant with <a href="https://bikemobile.org/">BikeMobile</a>, supporting sustainable transportation and expanding community repair resources.</p>
LOCATION:Sunset - Sunset Program Room
CLASS:PUBLIC
TRANSP:TRANSPARENT
END:VEVENT
BEGIN:VALARM
TRIGGER:-PT1440M
ACTION:DISPLAY
DESCRIPTION:Event Reminder - Workshop: Bike Repair Fix-it Clinic
END:VALARM
END:VCALENDAR