BEGIN:VCALENDAR
VERSION:2.0
PRODID:SFPL Web Calendar
BEGIN:VEVENT
UID:151746@sfpl.org
DTSTAMP:20260709T210000Z
DTSTART:20260709T210000Z
DTEND:20260709T220000Z
SUMMARY:Workshop: Lip Balm
DESCRIPTION:<p>Make customized lip balm with essential oils, colors and scents. For ages 10–18. Space limited.</p>
LOCATION:Portola - Portola Meeting Room
CLASS:PUBLIC
TRANSP:TRANSPARENT
END:VEVENT
BEGIN:VALARM
TRIGGER:-PT1440M
ACTION:DISPLAY
DESCRIPTION:Event Reminder - Workshop: Lip Balm
END:VALARM
END:VCALENDAR