BEGIN:VCALENDAR
VERSION:2.0
PRODID:SFPL Web Calendar
BEGIN:VEVENT
UID:151893@sfpl.org
DTSTAMP:20260510T220000Z
DTSTART:20260510T220000Z
DTEND:20260510T230000Z
SUMMARY:Workshop: Arabic Percussion and Bellydancing with Faisal Zedan and Nicole Maria
DESCRIPTION:<p>Celebrate Arabic arts and culture with belly dancer Nicole Maria, and percussionist Faisal Zedan. Their engaging and interactive performance will include a belly dance and music lesson. For children and their families.&nbsp;</p>
LOCATION:Ocean View - Ocean View Meeting Room
CLASS:PUBLIC
TRANSP:TRANSPARENT
END:VEVENT
BEGIN:VALARM
TRIGGER:-PT1440M
ACTION:DISPLAY
DESCRIPTION:Event Reminder - Workshop: Arabic Percussion and Bellydancing with Faisal Zedan and Nicole Maria
END:VALARM
END:VCALENDAR