BEGIN:VCALENDAR
VERSION:2.0
PRODID:SFPL Web Calendar
BEGIN:VEVENT
UID:151940@sfpl.org
DTSTAMP:20260421T223000Z
DTSTART:20260421T223000Z
DTEND:20260421T233000Z
SUMMARY:Activity: Make Za'atar and Dukkah
DESCRIPTION:<p>Learn what goes into famous condiments: &nbsp;Za'atar and Dukkah – popular spice mixes found in Palestine, Egypt, Lebanon and beyond. Add spice mixes to bread with olive oil and take the rest home! For children and their caregivers. Space limited. Reservations required: (415) 355-5648 or sign-up at the youth services reference desk.</p>
LOCATION:Richmond/Senator Milton Marks - Richmond Meeting Room
CLASS:PUBLIC
TRANSP:TRANSPARENT
END:VEVENT
BEGIN:VALARM
TRIGGER:-PT1440M
ACTION:DISPLAY
DESCRIPTION:Event Reminder - Activity: Make Za'atar and Dukkah
END:VALARM
END:VCALENDAR