BEGIN:VCALENDAR
VERSION:2.0
PRODID:SFPL Web Calendar
BEGIN:VEVENT
UID:151951@sfpl.org
DTSTAMP:20260429T230000Z
DTSTART:20260429T230000Z
DTEND:20260430T000000Z
SUMMARY:Activity: Crochet Club
DESCRIPTION:<p>Select from a range of crochet projects or bring your own project. Instruction will be provided, if needed. Crocheters of all experience levels, including beginners, are welcome. Space limited. For ages 6 and older.&nbsp;</p>
LOCATION:Ingleside - Ingleside Meeting Room
CLASS:PUBLIC
TRANSP:TRANSPARENT
END:VEVENT
BEGIN:VALARM
TRIGGER:-PT1440M
ACTION:DISPLAY
DESCRIPTION:Event Reminder - Activity: Crochet Club
END:VALARM
END:VCALENDAR