BEGIN:VCALENDAR
VERSION:2.0
PRODID:SFPL Web Calendar
BEGIN:VEVENT
UID:152064@sfpl.org
DTSTAMP:20260503T220000Z
DTSTART:20260503T220000Z
DTEND:20260503T230000Z
SUMMARY:Workshop: Introduction to Genealogy Using the Ancestry Database
DESCRIPTION:<p>Get started with basic genealogy research using the Ancestry database. This workshop is for beginners. Please bring your SFPL library card and PIN, so that you can sign into library computers and databases. Space limited. Reservations required: (415) 355-5616&nbsp;</p>
LOCATION:Eureka Valley/Harvey Milk Memorial - Eureka Valley General Floor Area
CLASS:PUBLIC
TRANSP:TRANSPARENT
END:VEVENT
BEGIN:VALARM
TRIGGER:-PT1440M
ACTION:DISPLAY
DESCRIPTION:Event Reminder - Workshop: Introduction to Genealogy Using the Ancestry Database
END:VALARM
END:VCALENDAR