BEGIN:VCALENDAR
VERSION:2.0
PRODID:SFPL Web Calendar
BEGIN:VEVENT
UID:152065@sfpl.org
DTSTAMP:20260520T000000Z
DTSTART:20260520T000000Z
DTEND:20260520T013000Z
SUMMARY:Activity: Yarn Connections Craft Group
DESCRIPTION:<p>Join other craft lovers for an evening of crochet, knitting, or other yarn art. Bring your own project to work on. No instructor present, but all levels welcome to learn from each other. Meet third Tuesdays.</p>
LOCATION:Eureka Valley/Harvey Milk Memorial - Eureka Valley General Floor Area
CLASS:PUBLIC
TRANSP:TRANSPARENT
END:VEVENT
BEGIN:VALARM
TRIGGER:-PT1440M
ACTION:DISPLAY
DESCRIPTION:Event Reminder - Activity: Yarn Connections Craft Group
END:VALARM
END:VCALENDAR