BEGIN:VCALENDAR
VERSION:2.0
PRODID:SFPL Web Calendar
BEGIN:VEVENT
UID:152173@sfpl.org
DTSTAMP:20260417T230000Z
DTSTART:20260417T230000Z
DTEND:20260418T000000Z
SUMMARY:Activity: Puppy Dog Tales
DESCRIPTION:<p>Practice reading with a certified therapy dog from SF SPCA. For ages 5–12.</p>
LOCATION:North Beach - North Beach General Floor Area
CLASS:PUBLIC
TRANSP:TRANSPARENT
END:VEVENT
BEGIN:VALARM
TRIGGER:-PT1440M
ACTION:DISPLAY
DESCRIPTION:Event Reminder - Activity: Puppy Dog Tales
END:VALARM
END:VCALENDAR