BEGIN:VCALENDAR
VERSION:2.0
PRODID:SFPL Web Calendar
BEGIN:VEVENT
UID:152210@sfpl.org
DTSTAMP:20260715T220000Z
DTSTART:20260715T220000Z
DTEND:20260715T230000Z
SUMMARY:Activity: Pool-Noodle Pompom Shooters
DESCRIPTION:<p>Blast mini-pompoms into the air with shooters made with pool noodles, duct tape and balloons.&nbsp;</p>
LOCATION:Eureka Valley/Harvey Milk Memorial - Eureka Valley Children's Area
CLASS:PUBLIC
TRANSP:TRANSPARENT
END:VEVENT
BEGIN:VALARM
TRIGGER:-PT1440M
ACTION:DISPLAY
DESCRIPTION:Event Reminder - Activity: Pool-Noodle Pompom Shooters
END:VALARM
END:VCALENDAR