BEGIN:VCALENDAR
VERSION:2.0
PRODID:SFPL Web Calendar
BEGIN:VEVENT
UID:152642@sfpl.org
DTSTAMP:20260516T220000Z
DTSTART:20260516T220000Z
DTEND:20260516T233000Z
SUMMARY:Presentation: Victorian Architecture of SF's Pacific Heights Neighborhood
DESCRIPTION:<p>Learn about the history of Pacific Heights and its Victorian architecture from Rob Thomson, past president of the Victorian Alliance of San Francisco. Rob will also discuss the Victorian Alliance’s house tour programs with photos and information about past events including the 2006 Pacific Heights tour. Space limited; first come, first served.</p><p>Rob Thomson is trained as an archaeologist and historic preservation planner.&nbsp;He has worked for the Presidio Trust in San Francisco since 2006, and currently manages the agency’s historic preservation and cultural resources program as its Federal Preservation Officer.&nbsp;Prior to the Trust, Rob developed historic preservation training programs in Southeast Asia for the Getty Conservation Institute in Los Angeles, and worked on archaeological field projects in Virginia, California, and East Africa.&nbsp;He has written extensively on historic preservation policy in the US and Asia, including a co-authored book entitled&nbsp;<i>Architectural Conservation in Asia: National Experiences & Practice</i>.&nbsp;He was the president of the Victorian Alliance of San Francisco from&nbsp;2016-2023, the oldest all-volunteer historic preservation advocacy organization in San Francisco.</p><p>Connect: <a href="https://www.victorianalliance.org/">Victorian Alliance</a></p><p><br>&nbsp;</p>
LOCATION:Golden Gate Valley - Golden Gate Valley Meeting Room
CLASS:PUBLIC
TRANSP:TRANSPARENT
END:VEVENT
BEGIN:VALARM
TRIGGER:-PT1440M
ACTION:DISPLAY
DESCRIPTION:Event Reminder - Presentation: Victorian Architecture of SF's Pacific Heights Neighborhood
END:VALARM
END:VCALENDAR