BEGIN:VCALENDAR
VERSION:2.0
PRODID:SFPL Web Calendar
BEGIN:VEVENT
UID:152839@sfpl.org
DTSTAMP:20260507T000000Z
DTSTART:20260507T000000Z
DTEND:20260507T030000Z
SUMMARY:Social: West Portal Small Business Stroll
DESCRIPTION:<p>Enjoy an evening of community, connection and commerce at the West Portal Street Small Business Stroll. This guided walk will spotlight 6 locally owned businesses, each offering a unique look into their story, products and services.&nbsp; &nbsp;</p><p>At each stop, enjoy a short interview with the business owner followed by time to explore, shop and engage with neighbors. Many participating businesses will offer exclusive discounts or special promotions just for event guests. Stay until the final stop for a community prize drawing featuring items from the participating businesses.&nbsp;&nbsp;</p><p><strong>5:00 — Meet outside the West Portal Branch Library </strong>(190 Lenox Way)</p><p><strong>5:15 — Noe Valley Bakery West Portal </strong>(28 W Portal Ave)</p><p><strong>5:45 — The Music Store </strong>(66 W Portal Ave)</p><p><strong>6:15 — Bookshop West Portal </strong>(80 W Portal Ave)</p><p><strong>6:45 — Shaw’s </strong>(122 W Portal Ave)</p><p><strong>7:15 — SEW </strong>(29 West Portal Ave)</p><p><strong>7:45 — Philosopher’s Club </strong>(824 Ulloa St)</p><p>Presented by the San Francisco Public Library's <a href="https://sfpl.org/locations/main-library/small-business-center">Small Business Center</a>, <a href="https://sfpl.org/locations/west-portal">West Portal Branch</a> and <a href="https://www.sf.gov/shop-dine-sf">Shop Dine SF.</a>&nbsp;</p>
LOCATION:West Portal - West Portal Front Courtyard
CLASS:PUBLIC
TRANSP:TRANSPARENT
END:VEVENT
BEGIN:VALARM
TRIGGER:-PT1440M
ACTION:DISPLAY
DESCRIPTION:Event Reminder - Social: West Portal Small Business Stroll
END:VALARM
END:VCALENDAR