BEGIN:VCALENDAR
VERSION:2.0
PRODID:SFPL Web Calendar
BEGIN:VEVENT
UID:152841@sfpl.org
DTSTAMP:20260512T200000Z
DTSTART:20260512T200000Z
DTEND:20260512T213000Z
SUMMARY:Tutorial: Tech Drop-In
DESCRIPTION:<p>Patient tech-volunteers provide one-on-one help to increase basic computer skills and instruction on how to solve technology issues like:</p><ul><li>Adjust personal laptop, tablet or phone settings.</li><li>Navigate internet, email or social media.</li><li>Download and install apps on personal devices.</li><li>Find additional in-person and online resources.</li></ul><p>This event is part of&nbsp;<a href="https://sfpl.org/locations/main-library/bridge-main-5th-floor/sf-tech-week">SF Tech Week</a>.</p>
LOCATION:Main Library - Computer Training Center - 5th Fl
CLASS:PUBLIC
TRANSP:TRANSPARENT
END:VEVENT
BEGIN:VALARM
TRIGGER:-PT1440M
ACTION:DISPLAY
DESCRIPTION:Event Reminder - Tutorial: Tech Drop-In
END:VALARM
END:VCALENDAR