BEGIN:VCALENDAR
VERSION:2.0
PRODID:SFPL Web Calendar
BEGIN:VEVENT
UID:152893@sfpl.org
DTSTAMP:20260715T200000Z
DTSTART:20260715T200000Z
DTEND:20260715T213000Z
SUMMARY:Workshop: Keva Contraptions
DESCRIPTION:<p>Build your engineering skills with the boundless possibilities of KEVA Contraptions. For ages 7 and older.</p><p><br>&nbsp;</p>
LOCATION:Visitacion Valley - Visitacion Valley Meeting Room
CLASS:PUBLIC
TRANSP:TRANSPARENT
END:VEVENT
BEGIN:VALARM
TRIGGER:-PT1440M
ACTION:DISPLAY
DESCRIPTION:Event Reminder - Workshop: Keva Contraptions
END:VALARM
END:VCALENDAR