BEGIN:VCALENDAR
VERSION:2.0
PRODID:SFPL Web Calendar
BEGIN:VEVENT
UID:152930@sfpl.org
DTSTAMP:20260515T210000Z
DTSTART:20260515T210000Z
DTEND:20260515T220000Z
SUMMARY:Workshop: Google E-mail Icons -- Gmail Hidden Features in Plain Sight
DESCRIPTION:<p>Learn about features such as uploading GChat and Gmeet into Your Gmail App, creating labels for email, using categories, scheduling emails, sending email securely, stopping unwanted emails and uncovering other Gmail configurations that you knew never existed but can enhance your experience.</p><p>Register to join on Zoom.</p><p>If you are new to using Zoom, check out <a href="https://bit.ly/sfplzoominfo">this video and website</a> with more information on how to use Zoom before the program.</p><p>Angela Hudson has a background in Library Research and a Bachelorettes of Arts in Psychology. She started working for Curry Senior Center in November 2022 and serves the senior citizen population.&nbsp; Her first computer certificate was in Oakland, CA, at McClymonds High School of Technology. She recently wrote her 10-year-old son a teen booklet. She likes music, dancing and wants to learn the violin. She has volunteered her time on career tips to high school students.&nbsp;</p><p>This event is part of&nbsp;<a href="https://sfpl.org/techweek">SF Tech Week</a></p>
LOCATION:Virtual Library
CLASS:PUBLIC
TRANSP:TRANSPARENT
END:VEVENT
BEGIN:VALARM
TRIGGER:-PT1440M
ACTION:DISPLAY
DESCRIPTION:Event Reminder - Workshop: Google E-mail Icons -- Gmail Hidden Features in Plain Sight
END:VALARM
END:VCALENDAR