BEGIN:VCALENDAR
VERSION:2.0
PRODID:SFPL Web Calendar
BEGIN:VEVENT
UID:152933@sfpl.org
DTSTAMP:20260516T170000Z
DTSTART:20260516T170000Z
DTEND:20260516T204500Z
SUMMARY:Smarter Than Your Smartphone: Essential Skills for Devices, Storage & Safety
DESCRIPTION:<p>Registration starts at 9:30am</p><p>A two‑part digital skills workshop designed to help you use your devices with confidence.</p><p><br><strong>Session 1 (10 a.m.-11:30 a.m.)</strong>: &nbsp;Smarter Than Your Smartphone: Essential Skills for Devices, Storage & Safety</p><p>Start the day with a 90‑minute Intro to Smartphones session, where you’ll learn Android basics, essential settings, and how to manage your phone’s storage.&nbsp;</p><p><strong>Session 2 (1 p.m.-1:45 p.m.):</strong> Internet Safety and Security</p><p>Continue learning with a 45‑minute workshop covering how to browse safely, protect your information, and spot common scams across any device.</p><p>&nbsp;</p><p>Space limited. Reservation required (415) 592-2766. Call, come in or arrive early on the day of the event&nbsp;to register.&nbsp;&nbsp;</p><p><i>These tech programs are offered at the Tenderloin Tech Lab (150 Golden Gate Avenue).</i></p><p>&nbsp;</p><p>Tenderloin Technology Lab&nbsp;(TTL), a partnership between St. Anthony Foundation and San Francisco Network Ministries, is an&nbsp;accessible technology center, providing computer access and education to all.</p><p>Connect:&nbsp;<a href="https://www.stanthonysf.org/services/tech-lab/">Tenderloin Technology Lab (TTL) –<strong>&nbsp;</strong>Website&nbsp;</a></p><p>St. Anthony's<strong>&nbsp;</strong>is a nonprofit social service&nbsp;organization&nbsp;in&nbsp;San Francisco, California.</p><p>Connect:&nbsp;<a href="https://www.stanthonysf.org/">St. Anthony's –&nbsp; Website</a>&nbsp;|&nbsp;<a href="https://www.facebook.com/stanthonysf">St. Anthony's –&nbsp; Facebook</a>&nbsp;|&nbsp;<a href="http://www.youtube.com/user/stanthonysf">St. Anthony's –&nbsp; YouTube&nbsp;</a>|&nbsp;<a href="https://www.instagram.com/stanthonysf/">St. Anthony's –&nbsp; Instagram</a>&nbsp;|&nbsp;<a href="http://www.linkedin.com/company/stanthonysf/">St. Anthony's –&nbsp; LinkedIn</a></p><p>This event is part of&nbsp;<a href="https://sfpl.org/locations/main-library/bridge-main-5th-floor/sf-tech-week">SF Tech Week</a>.</p>
LOCATION:Main Library
CLASS:PUBLIC
TRANSP:TRANSPARENT
END:VEVENT
BEGIN:VALARM
TRIGGER:-PT1440M
ACTION:DISPLAY
DESCRIPTION:Event Reminder - Smarter Than Your Smartphone: Essential Skills for Devices, Storage & Safety
END:VALARM
END:VCALENDAR