BEGIN:VCALENDAR
VERSION:2.0
PRODID:SFPL Web Calendar
BEGIN:VEVENT
UID:152961@sfpl.org
DTSTAMP:20260527T230000Z
DTSTART:20260527T230000Z
DTEND:20260528T000000Z
SUMMARY:Activity: Crochet Club
DESCRIPTION:<p>Crocheters of all experience levels, including beginners, are welcome. &nbsp;Select from a range of projects to work on, or bring your own. &nbsp;Instruction is provided. &nbsp;Materials will be provided, though supplies are limited.</p><p>Recommended for ages 6 and up.</p><p>Theme of the month: April showers bring May flowers.</p>
LOCATION:Ingleside - Ingleside Meeting Room
CLASS:PUBLIC
TRANSP:TRANSPARENT
END:VEVENT
BEGIN:VALARM
TRIGGER:-PT1440M
ACTION:DISPLAY
DESCRIPTION:Event Reminder - Activity: Crochet Club
END:VALARM
END:VCALENDAR