BEGIN:VCALENDAR
VERSION:2.0
PRODID:SFPL Web Calendar
BEGIN:VEVENT
UID:152971@sfpl.org
DTSTAMP:20260516T213000Z
DTSTART:20260516T213000Z
DTEND:20260516T223000Z
SUMMARY:Workshop: Koinobori, Japanese Carp Streamers
DESCRIPTION:<p>Make Koinobori, Japanese carp streamers. Space limited. For children ages 6 and older.</p><p><br>&nbsp;</p>
LOCATION:Noe Valley/Sally Brunn - Noe Valley Meeting Room
CLASS:PUBLIC
TRANSP:TRANSPARENT
END:VEVENT
BEGIN:VALARM
TRIGGER:-PT1440M
ACTION:DISPLAY
DESCRIPTION:Event Reminder - Workshop: Koinobori, Japanese Carp Streamers
END:VALARM
END:VCALENDAR