BEGIN:VCALENDAR
VERSION:2.0
PRODID:SFPL Web Calendar
BEGIN:VEVENT
UID:152979@sfpl.org
DTSTAMP:20260517T200000Z
DTSTART:20260517T200000Z
DTEND:20260517T230000Z
SUMMARY:Film: Girlhood, with Maya Sidhu
DESCRIPTION:<p><i>Girlhood </i>is a French coming-of-age drama that follows Marieme, a shy African-French teenage girl growing up in a tough housing project on the outskirts of Paris. Struggling with school, family pressures, and limited prospects, she finds a sense of belonging when she joins a group of rebellious girls who introduce her to new freedoms and risks. As Marieme adopts different identities and navigates friendship, power, and vulnerability, the film explores themes of adolescence, social inequality, and the search for self-determination. Directed by Céline Sciamma (<i>Portrait of a Lady on Fire</i>), the film portrays the emotional intensity of youth while examining how environment, gender expectations, and friendship shape a young woman’s path. Before and after screening commentary by Maya Sidhu.&nbsp;</p><p>NR, 112 min., 2014. Closed captions (CC) in English.</p><p>Maya Sidhu is a Lecturer in French at U.C. Berkeley where she teaches courses on French as a second language and Francophone cinema.&nbsp;</p><p>Space limited. Seats available first come, first served.</p><p>&nbsp;</p>
LOCATION:Golden Gate Valley - Golden Gate Valley Meeting Room
CLASS:PUBLIC
TRANSP:TRANSPARENT
END:VEVENT
BEGIN:VALARM
TRIGGER:-PT1440M
ACTION:DISPLAY
DESCRIPTION:Event Reminder - Film: Girlhood, with Maya Sidhu
END:VALARM
END:VCALENDAR