BEGIN:VCALENDAR
VERSION:2.0
PRODID:SFPL Web Calendar
BEGIN:VEVENT
UID:153014@sfpl.org
DTSTAMP:20260529T224500Z
DTSTART:20260529T224500Z
DTEND:20260529T234500Z
SUMMARY:Activity: LED Paper Circuits Greeting Card
DESCRIPTION:<p>Make simple circuits on a flat piece of paper to create an illuminated flower themed greeting card. For ages 10–13. Space limited. Reservations required: (415) 355-2889.</p>
LOCATION:Chinatown/Him Mark Lai - Chinatown Meeting Room
CLASS:PUBLIC
TRANSP:TRANSPARENT
END:VEVENT
BEGIN:VALARM
TRIGGER:-PT1440M
ACTION:DISPLAY
DESCRIPTION:Event Reminder - Activity: LED Paper Circuits Greeting Card
END:VALARM
END:VCALENDAR