BEGIN:VCALENDAR
VERSION:2.0
PRODID:SFPL Web Calendar
BEGIN:VEVENT
UID:153022@sfpl.org
DTSTAMP:20260805T210000Z
DTSTART:20260805T210000Z
DTEND:20260805T220000Z
SUMMARY:Presentation: Lizard Lady Reptiles
DESCRIPTION:<p>Learn about endangered species while getting up close with some of the coolest snakes and lizards on the planet. This interactive presentation introduces youth to reptile science, conservation, and animal behavior in an engaging and memorable way. Space is limited. Reservations required: (415) 355-2848 (starting July 5).</p>
LOCATION:Visitacion Valley - Visitacion Valley Meeting Room
CLASS:PUBLIC
TRANSP:TRANSPARENT
END:VEVENT
BEGIN:VALARM
TRIGGER:-PT1440M
ACTION:DISPLAY
DESCRIPTION:Event Reminder - Presentation: Lizard Lady Reptiles
END:VALARM
END:VCALENDAR