BEGIN:VCALENDAR
VERSION:2.0
PRODID:SFPL Web Calendar
BEGIN:VEVENT
UID:153036@sfpl.org
DTSTAMP:20260530T170000Z
DTSTART:20260530T170000Z
DTEND:20260530T183000Z
SUMMARY:Social: Longform Article Reading Club
DESCRIPTION:<p>Discuss a longform magazine or newspaper article with a group of longreads fans in this new monthly club from the Magazines and Newspapers Center. It’s like a book club, but instead of books we discuss periodical articles of 5,000—10,000 words in length, which take about an hour to read.&nbsp;&nbsp;&nbsp;</p><p>To participate, read the month's selection ahead of time, then join the discussion at the appointed time and location.&nbsp;We recommend reading the selection a second time as well.&nbsp;</p><p>The agenda of the meeting includes round-robin introductions, a forty-five minute discussion utilizing the <a href="https://www.greatbooksncal.org/shared-inquiry">shared inquiry method</a>, and then a final twenty minutes to share any other thoughts the article brought up for you.&nbsp;&nbsp;</p><p>Typically, selections can be investigative journalism, creative writing, personal essay or another genre, as long as it was originally published in a periodical.&nbsp;</p><hr><h2>May 2026 Selection</h2><p>"Clouds and Rain over Three Gorges" by Xujun Eberlein.&nbsp;</p><p><i>The man I’m now married to was a foreigner in 1987, when he and I took a heretical hike along the Yangtze. We went to the mountains of Wushan through which the renowned Three Gorges are carved. According to a Tang Dynasty poem, </i>Water is hardly water after experiencing oceans / Clouds are no longer clouds apart from Wushan’s mountains<i>. Until a dam—said to be the world’s largest—cut the Yangtze into two halves at the waist, those damned words were so poignant that they could make the stoic sentimental.&nbsp;</i></p><p>American Literary Review, March 2014</p><p>Access options:</p><ul><li><a href="https://americanliteraryreview.com/2018/12/05/xujun-eberlein-clouds-and-rain-over-three-gorges-nonfiction/">Read on the American Literary Review website&nbsp;</a></li><li>Email <a href="mailto:mnc@sfpl.org">mnc@sfpl.org</a> to request a PDF</li></ul><h3><a href="https://libraryaware.com/2477/Subscribers/Subscribe">Sign-up for the Longform Article Club email list</a></h3><p>&nbsp;</p><hr><p>&nbsp;</p><p>Header image credit: by Fxqf, CC BY-SA 4.0, via <a href="https://commons.wikimedia.org/wiki/File:Cloud_top_of_Three_Gorges_06.jpg">Wikimedia Commons</a></p>
LOCATION:Virtual Library
CLASS:PUBLIC
TRANSP:TRANSPARENT
END:VEVENT
BEGIN:VALARM
TRIGGER:-PT1440M
ACTION:DISPLAY
DESCRIPTION:Event Reminder - Social: Longform Article Reading Club
END:VALARM
END:VCALENDAR