BEGIN:VCALENDAR
VERSION:2.0
PRODID:SFPL Web Calendar
BEGIN:VEVENT
UID:153093@sfpl.org
DTSTAMP:20260627T210000Z
DTSTART:20260627T210000Z
DTEND:20260627T223000Z
SUMMARY:Workshop: Painting Big Feelings 
DESCRIPTION:<p>Learn basic acrylic painting techniques to release emotions through a painting. Sendy Santamaria, 2024 Summer Stride illustrator-author, will encourage participants to make a painting inspired by their feelings.&nbsp;</p><p>Sendy Santamaria&nbsp;is an illustrator and children’s book author from San Diego, based in San Pablo, California, creating art and stories rooted in ordinary life and Mexican American culture.&nbsp;</p><p>Space limited. Reservations required: (415) 355-2858.</p><p>Connect: <a href="https://www.sendysantamaria.com/">Sendy Santamaria - Website</a>&nbsp;I <a href="https://www.instagram.com/quepasomijoo/">Sendy Santamaria - Instagram</a>&nbsp;</p><p>&nbsp;</p>
LOCATION:Glen Park - Glen Park Meeting Room
CLASS:PUBLIC
TRANSP:TRANSPARENT
END:VEVENT
BEGIN:VALARM
TRIGGER:-PT1440M
ACTION:DISPLAY
DESCRIPTION:Event Reminder - Workshop: Painting Big Feelings 
END:VALARM
END:VCALENDAR