BEGIN:VCALENDAR
VERSION:2.0
PRODID:SFPL Web Calendar
BEGIN:VEVENT
UID:153144@sfpl.org
DTSTAMP:20260611T180000Z
DTSTART:20260611T180000Z
DTEND:20260611T200000Z
SUMMARY:Workshop: Patterns and Linocuts
DESCRIPTION:<p>Artist Alejandra Rubio teaches students to design and carve a custom “chhapa” or “thapa” (traditional Indian woodblock printing tools) using linoleum. Create geometric or organic patterns, then stamp the design onto a personalized tote bag to take home. For ages 12–18.</p>
LOCATION:Main Library - Mix: Lounge - 2nd Fl
CLASS:PUBLIC
TRANSP:TRANSPARENT
END:VEVENT
BEGIN:VALARM
TRIGGER:-PT1440M
ACTION:DISPLAY
DESCRIPTION:Event Reminder - Workshop: Patterns and Linocuts
END:VALARM
END:VCALENDAR